BEGIN:VCALENDAR
VERSION:2.0
PRODID:-//Grand York Rite of California - ECPv6.15.20//NONSGML v1.0//EN
CALSCALE:GREGORIAN
METHOD:PUBLISH
X-WR-CALNAME:Grand York Rite of California
X-ORIGINAL-URL:https://yorkriteca.org
X-WR-CALDESC:Events for Grand York Rite of California
REFRESH-INTERVAL;VALUE=DURATION:PT1H
X-Robots-Tag:noindex
X-PUBLISHED-TTL:PT1H
BEGIN:VTIMEZONE
TZID:America/Los_Angeles
BEGIN:DAYLIGHT
TZOFFSETFROM:-0800
TZOFFSETTO:-0700
TZNAME:PDT
DTSTART:20250309T100000
END:DAYLIGHT
BEGIN:STANDARD
TZOFFSETFROM:-0700
TZOFFSETTO:-0800
TZNAME:PST
DTSTART:20251102T090000
END:STANDARD
BEGIN:DAYLIGHT
TZOFFSETFROM:-0800
TZOFFSETTO:-0700
TZNAME:PDT
DTSTART:20260308T100000
END:DAYLIGHT
BEGIN:STANDARD
TZOFFSETFROM:-0700
TZOFFSETTO:-0800
TZNAME:PST
DTSTART:20261101T090000
END:STANDARD
BEGIN:DAYLIGHT
TZOFFSETFROM:-0800
TZOFFSETTO:-0700
TZNAME:PDT
DTSTART:20270314T100000
END:DAYLIGHT
BEGIN:STANDARD
TZOFFSETFROM:-0700
TZOFFSETTO:-0800
TZNAME:PST
DTSTART:20271107T090000
END:STANDARD
END:VTIMEZONE
BEGIN:VEVENT
DTSTART;TZID=America/Los_Angeles:20260801T150000
DTEND;TZID=America/Los_Angeles:20260801T190000
DTSTAMP:20260421T151437
CREATED:20260213T154509Z
LAST-MODIFIED:20260421T174512Z
UID:10000298-1785596400-1785610800@yorkriteca.org
SUMMARY:Alameda 3 way reception
DESCRIPTION:
URL:https://yorkriteca.org/event/alameda-3-way-reception/
LOCATION:2312 Alameda Ave\, Alameda\, CA\, United States
CATEGORIES:Chapter
GEO:37.770563;-122.264779
END:VEVENT
BEGIN:VEVENT
DTSTART;TZID=America/Los_Angeles:20260819T180000
DTEND;TZID=America/Los_Angeles:20260819T190000
DTSTAMP:20260421T151437
CREATED:20240820T003149Z
LAST-MODIFIED:20250627T000059Z
UID:10000140-1787162400-1787166000@yorkriteca.org
SUMMARY:Zoom GC DGOs
DESCRIPTION:Zoom GC DGO's
URL:https://yorkriteca.org/event/zoom-gc-dgos-31/
CATEGORIES:Council
END:VEVENT
BEGIN:VEVENT
DTSTART;VALUE=DATE:20260821
DTEND;VALUE=DATE:20260824
DTSTAMP:20260421T151437
CREATED:20251003T181553Z
LAST-MODIFIED:20260421T104525Z
UID:10000269-1787270400-1787529599@yorkriteca.org
SUMMARY:SR: State Reunion
DESCRIPTION:
URL:https://yorkriteca.org/event/sr-state-reunion/
LOCATION:150 N. Madison Ave.\nPasadena CA 91101
CATEGORIES:Council
END:VEVENT
BEGIN:VEVENT
DTSTART;TZID=America/Los_Angeles:20260829T073000
DTEND;TZID=America/Los_Angeles:20260829T180000
DTSTAMP:20260421T151437
CREATED:20260213T154510Z
LAST-MODIFIED:20260421T174513Z
UID:10000297-1787988600-1788026400@yorkriteca.org
SUMMARY:East Bay York Rite Fall Pilgramage Degree Festival
DESCRIPTION:
URL:https://yorkriteca.org/event/east-bay-york-rite-fall-pilgramage-degree-festival/
CATEGORIES:Chapter
END:VEVENT
BEGIN:VEVENT
DTSTART;TZID=America/Los_Angeles:20260830T184500
DTEND;TZID=America/Los_Angeles:20260830T204500
DTSTAMP:20260421T151437
CREATED:20240831T000358Z
LAST-MODIFIED:20250627T000236Z
UID:10000141-1788115500-1788122700@yorkriteca.org
SUMMARY:Grand Commandery Inspector & Adjutant Monthly Meeting
DESCRIPTION:Monthly Grand Commandery Inspectors and Adjutant meeting with the Grand Inspector General\, SK Nick Raisis \nhttps://scottishrite.zoom.us/j/81009004043?pwd=TGpyaDVYTEt6VkhQSnhIMUdic1lZdz09
URL:https://yorkriteca.org/event/grand-commandery-inspector-adjutant-monthly-meeting-27/
LOCATION:https://scottishrite.zoom.us/j/81009004043?pwd=TGpyaDVYTEt6VkhQSnhIMUdic1lZdz09
CATEGORIES:Commandery
END:VEVENT
BEGIN:VEVENT
DTSTART;TZID=America/Los_Angeles:20260830T184500
DTEND;TZID=America/Los_Angeles:20260830T204500
DTSTAMP:20260421T151437
CREATED:20250813T215436Z
LAST-MODIFIED:20260421T210018Z
UID:10000231-1788115500-1788122700@yorkriteca.org
SUMMARY:Grand Commandery Inspector & Adjutant Monthly Meeting
DESCRIPTION:Monthly Grand Commandery Inspectors and Adjutant meeting with the Grand Inspector General\, SK Nick Raisis \nhttps://scottishrite.zoom.us/j/81009004043?pwd=TGpyaDVYTEt6VkhQSnhIMUdic1lZdz09
URL:https://yorkriteca.org/event/grand-commandery-inspector-adjutant-monthly-meeting-49/
LOCATION:https://scottishrite.zoom.us/j/81009004043?pwd=TGpyaDVYTEt6VkhQSnhIMUdic1lZdz09
CATEGORIES:Commandery
END:VEVENT
END:VCALENDAR