BEGIN:VCALENDAR
VERSION:2.0
PRODID:-//Grand York Rite of California - ECPv6.15.20//NONSGML v1.0//EN
CALSCALE:GREGORIAN
METHOD:PUBLISH
X-WR-CALNAME:Grand York Rite of California
X-ORIGINAL-URL:https://yorkriteca.org
X-WR-CALDESC:Events for Grand York Rite of California
REFRESH-INTERVAL;VALUE=DURATION:PT1H
X-Robots-Tag:noindex
X-PUBLISHED-TTL:PT1H
BEGIN:VTIMEZONE
TZID:America/Los_Angeles
BEGIN:DAYLIGHT
TZOFFSETFROM:-0800
TZOFFSETTO:-0700
TZNAME:PDT
DTSTART:20250309T100000
END:DAYLIGHT
BEGIN:STANDARD
TZOFFSETFROM:-0700
TZOFFSETTO:-0800
TZNAME:PST
DTSTART:20251102T090000
END:STANDARD
BEGIN:DAYLIGHT
TZOFFSETFROM:-0800
TZOFFSETTO:-0700
TZNAME:PDT
DTSTART:20260308T100000
END:DAYLIGHT
BEGIN:STANDARD
TZOFFSETFROM:-0700
TZOFFSETTO:-0800
TZNAME:PST
DTSTART:20261101T090000
END:STANDARD
BEGIN:DAYLIGHT
TZOFFSETFROM:-0800
TZOFFSETTO:-0700
TZNAME:PDT
DTSTART:20270314T100000
END:DAYLIGHT
BEGIN:STANDARD
TZOFFSETFROM:-0700
TZOFFSETTO:-0800
TZNAME:PST
DTSTART:20271107T090000
END:STANDARD
END:VTIMEZONE
BEGIN:VEVENT
DTSTART;TZID=America/Los_Angeles:20260506T180000
DTEND;TZID=America/Los_Angeles:20260506T193000
DTSTAMP:20260421T103143
CREATED:20260405T224510Z
LAST-MODIFIED:20260421T104517Z
UID:10000303-1778090400-1778095800@yorkriteca.org
SUMMARY:GC DGOs Zoom Call - Pre Grand Council Session
DESCRIPTION:Join Zoom Meeting\nhttps://us02web.zoom.us/j/87313489088?pwd=dn19EwIyHvjh2ouQe2jnX9xaVgmYca.1\nView meeting insights with Zoom AI Companion\nhttps://us02web.zoom.us/launch/edl?muid=cb73e5a6-e2ef-4c4a-8652-dd78439c37a3\nMeeting ID: 873 1348 9088\nPasscode: purple\n—\nOne tap mobile\n+16692192599\,\,87313489088#\,\,\,\,*934712# US (San Jose)\n+16699006833\,\,87313489088#\,\,\,\,*934712# US (San Jose)\nJoin instructions\nhttps://us02web.zoom.us/meetings/87313489088/invitations?signature=pdBkjqJyWglYEwX7jg3KpRJCKVTQjIjOA3n3IYq60Ik\nMay 6\, 2026 @ 6:00pm\nGrand Assembly  Monday May 18\, 2026 @ 8:00am
URL:https://yorkriteca.org/event/gc-dgos-zoom-call-pre-grand-council-session/
LOCATION:https://us02web.zoom.us/j/87313489088?pwd=dn19EwIyHvjh2ouQe2jnX9xaVgmYca.1
CATEGORIES:Council
END:VEVENT
BEGIN:VEVENT
DTSTART;VALUE=DATE:20260515
DTEND;VALUE=DATE:20260516
DTSTAMP:20260421T103143
CREATED:20250813T215224Z
LAST-MODIFIED:20260421T104519Z
UID:10000205-1778803200-1778889599@yorkriteca.org
SUMMARY:Grand Conclave of the Knights Templar of California
DESCRIPTION:Dress Code: Purple Coat
URL:https://yorkriteca.org/event/grand-conclave-of-the-knights-templar-of-california/
LOCATION:Los Angeles Marriott Burbank Airport\, 2500 N Hollywood Way\, Burbank\, CA\, United States
CATEGORIES:Council
GEO:34.193897;-118.348941
X-APPLE-STRUCTURED-LOCATION;VALUE=URI;X-ADDRESS=Los Angeles Marriott Burbank Airport 2500 N Hollywood Way Burbank CA United States;X-APPLE-RADIUS=500;X-TITLE=2500 N Hollywood Way:geo:-118.348941,34.193897
END:VEVENT
BEGIN:VEVENT
DTSTART;VALUE=DATE:20260516
DTEND;VALUE=DATE:20260517
DTSTAMP:20260421T103143
CREATED:20250813T215224Z
LAST-MODIFIED:20260421T104518Z
UID:10000204-1778889600-1778975999@yorkriteca.org
SUMMARY:Grand Convocation of the Royal Arch Masons of California
DESCRIPTION:Dress Code: Purple Coat
URL:https://yorkriteca.org/event/grand-convocation-of-the-royal-arch-masons-of-california/
LOCATION:Los Angeles Marriott Burbank Airport\, 2500 N Hollywood Way\, Burbank\, CA\, United States
CATEGORIES:Council
GEO:34.193897;-118.348941
X-APPLE-STRUCTURED-LOCATION;VALUE=URI;X-ADDRESS=Los Angeles Marriott Burbank Airport 2500 N Hollywood Way Burbank CA United States;X-APPLE-RADIUS=500;X-TITLE=2500 N Hollywood Way:geo:-118.348941,34.193897
END:VEVENT
BEGIN:VEVENT
DTSTART;TZID=America/Los_Angeles:20260517T080000
DTEND;TZID=America/Los_Angeles:20260517T110000
DTSTAMP:20260421T103143
CREATED:20250813T215225Z
LAST-MODIFIED:20260421T104521Z
UID:10000207-1779004800-1779015600@yorkriteca.org
SUMMARY:Grand York Rite Corporation of California Meeting
DESCRIPTION:Dress Code: Casual / Camp Shirt
URL:https://yorkriteca.org/event/grand-york-rite-corporation-of-california-meeting/
LOCATION:Los Angeles Marriott Burbank Airport\, 2500 N Hollywood Way\, Burbank\, CA\, United States
CATEGORIES:Council
GEO:34.193897;-118.348941
X-APPLE-STRUCTURED-LOCATION;VALUE=URI;X-ADDRESS=Los Angeles Marriott Burbank Airport 2500 N Hollywood Way Burbank CA United States;X-APPLE-RADIUS=500;X-TITLE=2500 N Hollywood Way:geo:-118.348941,34.193897
END:VEVENT
BEGIN:VEVENT
DTSTART;TZID=America/Los_Angeles:20260517T173000
DTEND;TZID=America/Los_Angeles:20260517T223000
DTSTAMP:20260421T103143
CREATED:20250913T043109Z
LAST-MODIFIED:20260421T104522Z
UID:10000262-1779039000-1779057000@yorkriteca.org
SUMMARY:Grand York Rite Banquet
DESCRIPTION:Dress Code:  Purple Coat / Tuxedo
URL:https://yorkriteca.org/event/grand-york-rite-banquet/
LOCATION:Los Angeles Marriott Burbank Airport\, 2500 N Hollywood Way\, Burbank\, CA\, United States
CATEGORIES:Council
GEO:34.193897;-118.348941
X-APPLE-STRUCTURED-LOCATION;VALUE=URI;X-ADDRESS=Los Angeles Marriott Burbank Airport 2500 N Hollywood Way Burbank CA United States;X-APPLE-RADIUS=500;X-TITLE=2500 N Hollywood Way:geo:-118.348941,34.193897
END:VEVENT
BEGIN:VEVENT
DTSTART;VALUE=DATE:20260518
DTEND;VALUE=DATE:20260519
DTSTAMP:20260421T103143
CREATED:20250813T215224Z
LAST-MODIFIED:20260421T104523Z
UID:10000206-1779062400-1779148799@yorkriteca.org
SUMMARY:Grand Assembly of the Cryptic Masons of California
DESCRIPTION:Dress Code: Purple Coat/Tuxedo
URL:https://yorkriteca.org/event/grand-assembly-of-the-cryptic-masons-of-california/
LOCATION:Los Angeles Marriott Burbank Airport\, 2500 N Hollywood Way\, Burbank\, CA\, United States
CATEGORIES:Council
GEO:34.193897;-118.348941
X-APPLE-STRUCTURED-LOCATION;VALUE=URI;X-ADDRESS=Los Angeles Marriott Burbank Airport 2500 N Hollywood Way Burbank CA United States;X-APPLE-RADIUS=500;X-TITLE=2500 N Hollywood Way:geo:-118.348941,34.193897
END:VEVENT
BEGIN:VEVENT
DTSTART;TZID=America/Los_Angeles:20260520T180000
DTEND;TZID=America/Los_Angeles:20260520T190000
DTSTAMP:20260421T103143
CREATED:20240607T180209Z
LAST-MODIFIED:20250627T000055Z
UID:10000108-1779300000-1779303600@yorkriteca.org
SUMMARY:Zoom GC DGOs
DESCRIPTION:Zoom GC DGO's
URL:https://yorkriteca.org/event/zoom-gc-dgos-28/
CATEGORIES:Council
END:VEVENT
BEGIN:VEVENT
DTSTART;TZID=America/Los_Angeles:20260526T170000
DTEND;TZID=America/Los_Angeles:20260526T183000
DTSTAMP:20260421T103143
CREATED:20250813T215420Z
LAST-MODIFIED:20260420T210041Z
UID:10000227-1779814800-1779820200@yorkriteca.org
SUMMARY:Grand Commandery of California - Department Commander’s Meeting
DESCRIPTION:Joseph Dongo is inviting you to a scheduled Zoom meeting.\nJoin Zoom Meeting\nhttps://freemason-org.zoom.us/j/97470784094?pwd=RiQ62aaaO0ZHjwCED6ZlXxOFGizb9b.1\nMeeting ID: 974 7078 4094\nPasscode: YORK\n—\nOne tap mobile\n+16694449171\,\,97470784094# US\n+16699006833\,\,97470784094# US (San Jose)\n—\nDial by your location\n• +1 669 444 9171 US\n• +1 669 900 6833 US (San Jose)\n• +1 408 638 0968 US (San Jose)\n• +1 346 248 7799 US (Houston)\n• +1 719 359 4580 US\n• +1 253 205 0468 US\n• +1 253 215 8782 US (Tacoma)\n• +1 646 931 3860 US\n• +1 689 278 1000 US\n• +1 301 715 8592 US (Washington DC)\n• +1 305 224 1968 US\n• +1 309 205 3325 US\n• +1 312 626 6799 US (Chicago)\n• +1 360 209 5623 US\n• +1 386 347 5053 US\n• +1 507 473 4847 US\n• +1 564 217 2000 US\n• +1 646 876 9923 US (New York)\nMeeting ID: 974 7078 4094\nFind your local number: https://freemason-org.zoom.us/u/abm3iMVzEv
URL:https://yorkriteca.org/event/grand-commandery-of-california-department-commanders-meeting-10/
LOCATION:https://freemason-org.zoom.us/j/97470784094?pwd=RiQ62aaaO0ZHjwCED6ZlXxOFGizb9b.1
CATEGORIES:Commandery
END:VEVENT
BEGIN:VEVENT
DTSTART;TZID=America/Los_Angeles:20260531T184500
DTEND;TZID=America/Los_Angeles:20260531T204500
DTSTAMP:20260421T103143
CREATED:20240607T181349Z
LAST-MODIFIED:20250627T000129Z
UID:10000134-1780253100-1780260300@yorkriteca.org
SUMMARY:Grand Commandery Inspector & Adjutant Monthly Meeting
DESCRIPTION:Monthly Grand Commandery Inspectors and Adjutant meeting with the Grand Inspector General\, SK Nick Raisis \nhttps://scottishrite.zoom.us/j/81009004043?pwd=TGpyaDVYTEt6VkhQSnhIMUdic1lZdz09
URL:https://yorkriteca.org/event/grand-commandery-inspector-adjutant-monthly-meeting-24/
LOCATION:https://scottishrite.zoom.us/j/81009004043?pwd=TGpyaDVYTEt6VkhQSnhIMUdic1lZdz09
CATEGORIES:Commandery
END:VEVENT
BEGIN:VEVENT
DTSTART;TZID=America/Los_Angeles:20260531T184500
DTEND;TZID=America/Los_Angeles:20260531T204500
DTSTAMP:20260421T103143
CREATED:20250813T215435Z
LAST-MODIFIED:20260420T210042Z
UID:10000228-1780253100-1780260300@yorkriteca.org
SUMMARY:Grand Commandery Inspector & Adjutant Monthly Meeting
DESCRIPTION:Monthly Grand Commandery Inspectors and Adjutant meeting with the Grand Inspector General\, SK Nick Raisis \nhttps://scottishrite.zoom.us/j/81009004043?pwd=TGpyaDVYTEt6VkhQSnhIMUdic1lZdz09
URL:https://yorkriteca.org/event/grand-commandery-inspector-adjutant-monthly-meeting-46/
LOCATION:https://scottishrite.zoom.us/j/81009004043?pwd=TGpyaDVYTEt6VkhQSnhIMUdic1lZdz09
CATEGORIES:Commandery
END:VEVENT
END:VCALENDAR