BEGIN:VCALENDAR
VERSION:2.0
PRODID:-//Grand York Rite of California - ECPv6.15.20//NONSGML v1.0//EN
CALSCALE:GREGORIAN
METHOD:PUBLISH
X-WR-CALNAME:Grand York Rite of California
X-ORIGINAL-URL:https://yorkriteca.org
X-WR-CALDESC:Events for Grand York Rite of California
REFRESH-INTERVAL;VALUE=DURATION:PT1H
X-Robots-Tag:noindex
X-PUBLISHED-TTL:PT1H
BEGIN:VTIMEZONE
TZID:America/Los_Angeles
BEGIN:DAYLIGHT
TZOFFSETFROM:-0800
TZOFFSETTO:-0700
TZNAME:PDT
DTSTART:20250309T100000
END:DAYLIGHT
BEGIN:STANDARD
TZOFFSETFROM:-0700
TZOFFSETTO:-0800
TZNAME:PST
DTSTART:20251102T090000
END:STANDARD
BEGIN:DAYLIGHT
TZOFFSETFROM:-0800
TZOFFSETTO:-0700
TZNAME:PDT
DTSTART:20260308T100000
END:DAYLIGHT
BEGIN:STANDARD
TZOFFSETFROM:-0700
TZOFFSETTO:-0800
TZNAME:PST
DTSTART:20261101T090000
END:STANDARD
BEGIN:DAYLIGHT
TZOFFSETFROM:-0800
TZOFFSETTO:-0700
TZNAME:PDT
DTSTART:20270314T100000
END:DAYLIGHT
BEGIN:STANDARD
TZOFFSETFROM:-0700
TZOFFSETTO:-0800
TZNAME:PST
DTSTART:20271107T090000
END:STANDARD
END:VTIMEZONE
BEGIN:VEVENT
DTSTART;TZID=America/Los_Angeles:20260307T170000
DTEND;TZID=America/Los_Angeles:20260307T210000
DTSTAMP:20260421T122614
CREATED:20251018T164526Z
LAST-MODIFIED:20260306T224506Z
UID:10000274-1772902800-1772917200@yorkriteca.org
SUMMARY:3-Way Reception
DESCRIPTION:Whittier\, Bellflower\, and San Gabriel Valley York Rite Bodies \nDownload flyer \nSocial hour: 5:00 PM  Dinner: 6:00 PM \nDress is Business Casual
URL:https://yorkriteca.org/event/whitier-reception/
LOCATION:Whittier Masonic Temple\, 7604 Greenleaf Ave\, Whittier\, CA\, United States
CATEGORIES:Council
GEO:33.9736;-118.037283
X-APPLE-STRUCTURED-LOCATION;VALUE=URI;X-ADDRESS=Whittier Masonic Temple 7604 Greenleaf Ave Whittier CA United States;X-APPLE-RADIUS=500;X-TITLE=7604 Greenleaf Ave:geo:-118.037283,33.9736
END:VEVENT
END:VCALENDAR