BEGIN:VCALENDAR
VERSION:2.0
PRODID:-//Grand York Rite of California - ECPv6.15.20//NONSGML v1.0//EN
CALSCALE:GREGORIAN
METHOD:PUBLISH
X-WR-CALNAME:Grand York Rite of California
X-ORIGINAL-URL:https://yorkriteca.org
X-WR-CALDESC:Events for Grand York Rite of California
REFRESH-INTERVAL;VALUE=DURATION:PT1H
X-Robots-Tag:noindex
X-PUBLISHED-TTL:PT1H
BEGIN:VTIMEZONE
TZID:America/Los_Angeles
BEGIN:DAYLIGHT
TZOFFSETFROM:-0800
TZOFFSETTO:-0700
TZNAME:PDT
DTSTART:20250309T100000
END:DAYLIGHT
BEGIN:STANDARD
TZOFFSETFROM:-0700
TZOFFSETTO:-0800
TZNAME:PST
DTSTART:20251102T090000
END:STANDARD
BEGIN:DAYLIGHT
TZOFFSETFROM:-0800
TZOFFSETTO:-0700
TZNAME:PDT
DTSTART:20260308T100000
END:DAYLIGHT
BEGIN:STANDARD
TZOFFSETFROM:-0700
TZOFFSETTO:-0800
TZNAME:PST
DTSTART:20261101T090000
END:STANDARD
BEGIN:DAYLIGHT
TZOFFSETFROM:-0800
TZOFFSETTO:-0700
TZNAME:PDT
DTSTART:20270314T100000
END:DAYLIGHT
BEGIN:STANDARD
TZOFFSETFROM:-0700
TZOFFSETTO:-0800
TZNAME:PST
DTSTART:20271107T090000
END:STANDARD
END:VTIMEZONE
BEGIN:VEVENT
DTSTART;TZID=America/Los_Angeles:20260307T170000
DTEND;TZID=America/Los_Angeles:20260307T210000
DTSTAMP:20260421T104532
CREATED:20251018T164526Z
LAST-MODIFIED:20260306T224506Z
UID:10000274-1772902800-1772917200@yorkriteca.org
SUMMARY:3-Way Reception
DESCRIPTION:Whittier\, Bellflower\, and San Gabriel Valley York Rite Bodies \nDownload flyer \nSocial hour: 5:00 PM  Dinner: 6:00 PM \nDress is Business Casual
URL:https://yorkriteca.org/event/whitier-reception/
LOCATION:Whittier Masonic Temple\, 7604 Greenleaf Ave\, Whittier\, CA\, United States
CATEGORIES:Council
GEO:33.9736;-118.037283
X-APPLE-STRUCTURED-LOCATION;VALUE=URI;X-ADDRESS=Whittier Masonic Temple 7604 Greenleaf Ave Whittier CA United States;X-APPLE-RADIUS=500;X-TITLE=7604 Greenleaf Ave:geo:-118.037283,33.9736
END:VEVENT
BEGIN:VEVENT
DTSTART;TZID=America/Los_Angeles:20260314T100000
DTEND;TZID=America/Los_Angeles:20260314T170000
DTSTAMP:20260421T104532
CREATED:20260119T185229Z
LAST-MODIFIED:20260119T185229Z
UID:10000294-1773482400-1773507600@yorkriteca.org
SUMMARY:Spring 2026 York Rite Festival - Council
DESCRIPTION:Spring 2026 York Rite Festival  \nCryptic Mason Council Degrees\nRoyal Master & Select Master\nSaturday\, March 14th\, 2026 @ 10:00 A.M. \nSan Bernardino York Rite Masonic Temple\n2888 Arrowhead Avenue San Bernardino\, California 92405-3805 sbyrb@juno.com \nI.E. Spring YR Festival 2026 Flyer 2
URL:https://yorkriteca.org/event/spring-2026-york-rite-festival-council/
LOCATION:San Bernardino York Rite Temple\, 2888 N Arrowhead Ave\, San Bernardino\, CA 92405\, USA
CATEGORIES:Council
END:VEVENT
BEGIN:VEVENT
DTSTART;VALUE=DATE:20260315
DTEND;VALUE=DATE:20260320
DTSTAMP:20260421T104532
CREATED:20250913T023050Z
LAST-MODIFIED:20260209T134512Z
UID:10000258-1773532800-1773964799@yorkriteca.org
SUMMARY:Cryptic Council Degrees at Sea
DESCRIPTION:Download Flyer \nDress Code: Casual / Camp Shirt \nFor booking or more information \, contact:Mark Harris 415-922-2916 Ex 1 or 2mark@songmastertravel.comhttps://zfrmz.com/zHyRzSzjtFGh1OVUyl21
URL:https://yorkriteca.org/event/cryptic-council-degrees-at-sea/
LOCATION:Pacific Ocean\, 6000 California City Blvd\, California City\, CA\, United States
CATEGORIES:Council
GEO:35.125624;-118.021353
X-APPLE-STRUCTURED-LOCATION;VALUE=URI;X-ADDRESS=Pacific Ocean 6000 California City Blvd California City CA United States;X-APPLE-RADIUS=500;X-TITLE=6000 California City Blvd:geo:-118.021353,35.125624
END:VEVENT
BEGIN:VEVENT
DTSTART;TZID=America/Los_Angeles:20260316T190000
DTEND;TZID=America/Los_Angeles:20260316T203000
DTSTAMP:20260421T104532
CREATED:20260112T061524Z
LAST-MODIFIED:20260316T144507Z
UID:10000292-1773687600-1773693000@yorkriteca.org
SUMMARY:GM: Ventura 15 Stated Assembly
DESCRIPTION:
URL:https://yorkriteca.org/event/gm-ventura-15-stated-assembly/
CATEGORIES:Council
END:VEVENT
BEGIN:VEVENT
DTSTART;TZID=America/Los_Angeles:20260318T180000
DTEND;TZID=America/Los_Angeles:20260318T184500
DTSTAMP:20260421T104532
CREATED:20250813T215223Z
LAST-MODIFIED:20260318T224506Z
UID:10000202-1773856800-1773859500@yorkriteca.org
SUMMARY:DGO Zoom Meeting
DESCRIPTION:Andy Pippin\, MIGM is inviting you to a scheduled Zoom meeting.\nhttps://us02web.zoom.us/j/6743591727?pwd=8vNq19vSLtEt8pVBoM4t7BFiYoTlrn.1&omn=88053440759\nMeeting ID: 674 359 1727\nPasscode: 2025
URL:https://yorkriteca.org/event/dgo-zoom-meeting-4/
LOCATION:https://us02web.zoom.us/j/6743591727?pwd=8vNq19vSLtEt8pVBoM4t7BFiYoTlrn.1&omn=88053440759
CATEGORIES:Council
END:VEVENT
BEGIN:VEVENT
DTSTART;TZID=America/Los_Angeles:20260318T180000
DTEND;TZID=America/Los_Angeles:20260318T190000
DTSTAMP:20260421T104532
CREATED:20240607T180208Z
LAST-MODIFIED:20250627T000052Z
UID:10000106-1773856800-1773860400@yorkriteca.org
SUMMARY:Zoom GC DGOs
DESCRIPTION:Zoom GC DGO's
URL:https://yorkriteca.org/event/zoom-gc-dgos-26/
CATEGORIES:Council
END:VEVENT
BEGIN:VEVENT
DTSTART;TZID=America/Los_Angeles:20260321T180000
DTEND;TZID=America/Los_Angeles:20260321T210000
DTSTAMP:20260421T104532
CREATED:20250913T023051Z
LAST-MODIFIED:20260320T104511Z
UID:10000259-1774116000-1774126800@yorkriteca.org
SUMMARY:San Diego/Inland Empire 3-Way Reception
DESCRIPTION:Time:   Social: 5:00 pm\, Dinner:               6:00 pm\, Program:           7:00 pm\nMeal:   Blue Cheese Crusted Filet Mignon\nMediterranean Stuffed Chicken\nGarlic Mashed Potatoes\nFresh Cut Green Beans\nCaesar Salad\nBread & Butter\nDessert\nIced Tea & Lemonade\n                Cost:   $50\nDress: Purple Coat\n                Councils Expected: San Diego #23\, Helix #58\, and Valley #27
URL:https://yorkriteca.org/event/san-diego-inland-empire-3-way-reception/
LOCATION:Consuelo Masonic Lodge No. 325 F&AM\, 1331 S Escondido Blvd\, Escondido\, CA\, United States
CATEGORIES:Council
GEO:33.109201;-117.076437
X-APPLE-STRUCTURED-LOCATION;VALUE=URI;X-ADDRESS=Consuelo Masonic Lodge No. 325 F&AM 1331 S Escondido Blvd Escondido CA United States;X-APPLE-RADIUS=500;X-TITLE=1331 S Escondido Blvd:geo:-117.076437,33.109201
END:VEVENT
BEGIN:VEVENT
DTSTART;TZID=America/Los_Angeles:20260322T163000
DTEND;TZID=America/Los_Angeles:20260322T170000
DTSTAMP:20260421T104532
CREATED:20250913T023051Z
LAST-MODIFIED:20260322T144508Z
UID:10000260-1774197000-1774198800@yorkriteca.org
SUMMARY:Santa Monica 3-Way Reception
DESCRIPTION:Details TBA\nDress Code: Purple Coat
URL:https://yorkriteca.org/event/santa-monica-3-way-reception/
CATEGORIES:Council
END:VEVENT
END:VCALENDAR