BEGIN:VCALENDAR
VERSION:2.0
PRODID:-//Grand York Rite of California - ECPv6.15.20//NONSGML v1.0//EN
CALSCALE:GREGORIAN
METHOD:PUBLISH
X-WR-CALNAME:Grand York Rite of California
X-ORIGINAL-URL:https://yorkriteca.org
X-WR-CALDESC:Events for Grand York Rite of California
REFRESH-INTERVAL;VALUE=DURATION:PT1H
X-Robots-Tag:noindex
X-PUBLISHED-TTL:PT1H
BEGIN:VTIMEZONE
TZID:America/Los_Angeles
BEGIN:DAYLIGHT
TZOFFSETFROM:-0800
TZOFFSETTO:-0700
TZNAME:PDT
DTSTART:20250309T100000
END:DAYLIGHT
BEGIN:STANDARD
TZOFFSETFROM:-0700
TZOFFSETTO:-0800
TZNAME:PST
DTSTART:20251102T090000
END:STANDARD
BEGIN:DAYLIGHT
TZOFFSETFROM:-0800
TZOFFSETTO:-0700
TZNAME:PDT
DTSTART:20260308T100000
END:DAYLIGHT
BEGIN:STANDARD
TZOFFSETFROM:-0700
TZOFFSETTO:-0800
TZNAME:PST
DTSTART:20261101T090000
END:STANDARD
BEGIN:DAYLIGHT
TZOFFSETFROM:-0800
TZOFFSETTO:-0700
TZNAME:PDT
DTSTART:20270314T100000
END:DAYLIGHT
BEGIN:STANDARD
TZOFFSETFROM:-0700
TZOFFSETTO:-0800
TZNAME:PST
DTSTART:20271107T090000
END:STANDARD
END:VTIMEZONE
BEGIN:VEVENT
DTSTART;TZID=America/Los_Angeles:20260628T184500
DTEND;TZID=America/Los_Angeles:20260628T204500
DTSTAMP:20260421T104011
CREATED:20240629T002925Z
LAST-MODIFIED:20250627T000232Z
UID:10000137-1782672300-1782679500@yorkriteca.org
SUMMARY:Grand Commandery Inspector & Adjutant Monthly Meeting
DESCRIPTION:Monthly Grand Commandery Inspectors and Adjutant meeting with the Grand Inspector General\, SK Nick Raisis \nhttps://scottishrite.zoom.us/j/81009004043?pwd=TGpyaDVYTEt6VkhQSnhIMUdic1lZdz09
URL:https://yorkriteca.org/event/grand-commandery-inspector-adjutant-monthly-meeting-25/
LOCATION:https://scottishrite.zoom.us/j/81009004043?pwd=TGpyaDVYTEt6VkhQSnhIMUdic1lZdz09
CATEGORIES:Commandery
END:VEVENT
BEGIN:VEVENT
DTSTART;TZID=America/Los_Angeles:20260628T184500
DTEND;TZID=America/Los_Angeles:20260628T204500
DTSTAMP:20260421T104011
CREATED:20250813T215436Z
LAST-MODIFIED:20260420T210043Z
UID:10000229-1782672300-1782679500@yorkriteca.org
SUMMARY:Grand Commandery Inspector & Adjutant Monthly Meeting
DESCRIPTION:Monthly Grand Commandery Inspectors and Adjutant meeting with the Grand Inspector General\, SK Nick Raisis \nhttps://scottishrite.zoom.us/j/81009004043?pwd=TGpyaDVYTEt6VkhQSnhIMUdic1lZdz09
URL:https://yorkriteca.org/event/grand-commandery-inspector-adjutant-monthly-meeting-47/
LOCATION:https://scottishrite.zoom.us/j/81009004043?pwd=TGpyaDVYTEt6VkhQSnhIMUdic1lZdz09
CATEGORIES:Commandery
END:VEVENT
END:VCALENDAR