BEGIN:VCALENDAR
VERSION:2.0
PRODID:-//Grand York Rite of California - ECPv6.15.20//NONSGML v1.0//EN
CALSCALE:GREGORIAN
METHOD:PUBLISH
X-WR-CALNAME:Grand York Rite of California
X-ORIGINAL-URL:https://yorkriteca.org
X-WR-CALDESC:Events for Grand York Rite of California
REFRESH-INTERVAL;VALUE=DURATION:PT1H
X-Robots-Tag:noindex
X-PUBLISHED-TTL:PT1H
BEGIN:VTIMEZONE
TZID:America/Los_Angeles
BEGIN:DAYLIGHT
TZOFFSETFROM:-0800
TZOFFSETTO:-0700
TZNAME:PDT
DTSTART:20250309T100000
END:DAYLIGHT
BEGIN:STANDARD
TZOFFSETFROM:-0700
TZOFFSETTO:-0800
TZNAME:PST
DTSTART:20251102T090000
END:STANDARD
BEGIN:DAYLIGHT
TZOFFSETFROM:-0800
TZOFFSETTO:-0700
TZNAME:PDT
DTSTART:20260308T100000
END:DAYLIGHT
BEGIN:STANDARD
TZOFFSETFROM:-0700
TZOFFSETTO:-0800
TZNAME:PST
DTSTART:20261101T090000
END:STANDARD
BEGIN:DAYLIGHT
TZOFFSETFROM:-0800
TZOFFSETTO:-0700
TZNAME:PDT
DTSTART:20270314T100000
END:DAYLIGHT
BEGIN:STANDARD
TZOFFSETFROM:-0700
TZOFFSETTO:-0800
TZNAME:PST
DTSTART:20271107T090000
END:STANDARD
END:VTIMEZONE
BEGIN:VEVENT
DTSTART;VALUE=DATE:20260608
DTEND;VALUE=DATE:20260609
DTSTAMP:20260421T134449
CREATED:20260311T044523Z
LAST-MODIFIED:20260421T104524Z
UID:10000301-1780876800-1780963199@yorkriteca.org
SUMMARY:Nevada Grand Assembly
DESCRIPTION:Information Page Registration form
URL:https://yorkriteca.org/event/nevada-grand-assembly/
LOCATION:Ramada by Wyndham Elko Hotel at Stockmen’s Casino\, 340 Commercial St\, Elko\, NV\, United States
CATEGORIES:Council
GEO:40.830471;-115.763345
X-APPLE-STRUCTURED-LOCATION;VALUE=URI;X-ADDRESS=Ramada by Wyndham Elko Hotel at Stockmen’s Casino 340 Commercial St Elko NV United States;X-APPLE-RADIUS=500;X-TITLE=340 Commercial St:geo:-115.763345,40.830471
END:VEVENT
END:VCALENDAR