BEGIN:VCALENDAR
VERSION:2.0
PRODID:-//Grand York Rite of California - ECPv6.15.20//NONSGML v1.0//EN
CALSCALE:GREGORIAN
METHOD:PUBLISH
X-WR-CALNAME:Grand York Rite of California
X-ORIGINAL-URL:https://yorkriteca.org
X-WR-CALDESC:Events for Grand York Rite of California
REFRESH-INTERVAL;VALUE=DURATION:PT1H
X-Robots-Tag:noindex
X-PUBLISHED-TTL:PT1H
BEGIN:VTIMEZONE
TZID:America/Los_Angeles
BEGIN:DAYLIGHT
TZOFFSETFROM:-0800
TZOFFSETTO:-0700
TZNAME:PDT
DTSTART:20250309T100000
END:DAYLIGHT
BEGIN:STANDARD
TZOFFSETFROM:-0700
TZOFFSETTO:-0800
TZNAME:PST
DTSTART:20251102T090000
END:STANDARD
BEGIN:DAYLIGHT
TZOFFSETFROM:-0800
TZOFFSETTO:-0700
TZNAME:PDT
DTSTART:20260308T100000
END:DAYLIGHT
BEGIN:STANDARD
TZOFFSETFROM:-0700
TZOFFSETTO:-0800
TZNAME:PST
DTSTART:20261101T090000
END:STANDARD
BEGIN:DAYLIGHT
TZOFFSETFROM:-0800
TZOFFSETTO:-0700
TZNAME:PDT
DTSTART:20270314T100000
END:DAYLIGHT
BEGIN:STANDARD
TZOFFSETFROM:-0700
TZOFFSETTO:-0800
TZNAME:PST
DTSTART:20271107T090000
END:STANDARD
END:VTIMEZONE
BEGIN:VEVENT
DTSTART;TZID=America/Los_Angeles:20260415T180000
DTEND;TZID=America/Los_Angeles:20260415T184500
DTSTAMP:20260421T103207
CREATED:20250813T215223Z
LAST-MODIFIED:20260415T224507Z
UID:10000203-1776276000-1776278700@yorkriteca.org
SUMMARY:GrCM: DGO & Ritual Team Zoom Meeting - April
DESCRIPTION:Join Zoom Meetinghttps://us02web.zoom.us/j/84841598697?pwd=78ePLG1rXIGudgiv1SqumArJJNHL3f.1 View meeting insights with Zoom AI Companionhttps://us02web.zoom.us/launch/edl?muid=f8252493-bca2-4342-9fe1-146211353ce5 Meeting ID: 848 4159 8697 Passcode: purple
URL:https://yorkriteca.org/event/grcm-dgo-ritual-team-zoom-meeting-april/
LOCATION:https://us02web.zoom.us/j/84841598697?pwd=78ePLG1rXIGudgiv1SqumArJJNHL3f.1
CATEGORIES:Council
END:VEVENT
BEGIN:VEVENT
DTSTART;TZID=America/Los_Angeles:20260415T180000
DTEND;TZID=America/Los_Angeles:20260415T190000
DTSTAMP:20260421T103207
CREATED:20240607T180209Z
LAST-MODIFIED:20250627T000054Z
UID:10000107-1776276000-1776279600@yorkriteca.org
SUMMARY:Zoom GC DGOs
DESCRIPTION:Zoom GC DGO's
URL:https://yorkriteca.org/event/zoom-gc-dgos-27/
CATEGORIES:Council
END:VEVENT
END:VCALENDAR