BEGIN:VCALENDAR
VERSION:2.0
PRODID:-//Grand York Rite of California - ECPv6.15.20//NONSGML v1.0//EN
CALSCALE:GREGORIAN
METHOD:PUBLISH
X-WR-CALNAME:Grand York Rite of California
X-ORIGINAL-URL:https://yorkriteca.org
X-WR-CALDESC:Events for Grand York Rite of California
REFRESH-INTERVAL;VALUE=DURATION:PT1H
X-Robots-Tag:noindex
X-PUBLISHED-TTL:PT1H
BEGIN:VTIMEZONE
TZID:America/Los_Angeles
BEGIN:DAYLIGHT
TZOFFSETFROM:-0800
TZOFFSETTO:-0700
TZNAME:PDT
DTSTART:20250309T100000
END:DAYLIGHT
BEGIN:STANDARD
TZOFFSETFROM:-0700
TZOFFSETTO:-0800
TZNAME:PST
DTSTART:20251102T090000
END:STANDARD
BEGIN:DAYLIGHT
TZOFFSETFROM:-0800
TZOFFSETTO:-0700
TZNAME:PDT
DTSTART:20260308T100000
END:DAYLIGHT
BEGIN:STANDARD
TZOFFSETFROM:-0700
TZOFFSETTO:-0800
TZNAME:PST
DTSTART:20261101T090000
END:STANDARD
BEGIN:DAYLIGHT
TZOFFSETFROM:-0800
TZOFFSETTO:-0700
TZNAME:PDT
DTSTART:20270314T100000
END:DAYLIGHT
BEGIN:STANDARD
TZOFFSETFROM:-0700
TZOFFSETTO:-0800
TZNAME:PST
DTSTART:20271107T090000
END:STANDARD
END:VTIMEZONE
BEGIN:VEVENT
DTSTART;VALUE=DATE:20260409
DTEND;VALUE=DATE:20260412
DTSTAMP:20260421T103259
CREATED:20250913T043053Z
LAST-MODIFIED:20260111T050044Z
UID:10000261-1775692800-1775951999@yorkriteca.org
SUMMARY:Oregon Grand York Rite Sessions
DESCRIPTION:Dress Code: Purple Coat
URL:https://yorkriteca.org/event/oregon-grand-york-rite-sessions/
LOCATION:Clackamas\, OR\, USA
CATEGORIES:Council
END:VEVENT
BEGIN:VEVENT
DTSTART;TZID=America/Los_Angeles:20260411T090000
DTEND;TZID=America/Los_Angeles:20260411T170000
DTSTAMP:20260421T103259
CREATED:20260119T185415Z
LAST-MODIFIED:20260119T185415Z
UID:10000295-1775898000-1775926800@yorkriteca.org
SUMMARY:Spring 2026 York Rite Festival - Commandery
DESCRIPTION:Spring 2026 York Rite Festival  \nKnights Templar Commandery Orders\nRed Cross\, Malta & Order of the Temple\nSaturday\, April 11th\, 2026 @ 9:00 A.M. \nSan Bernardino York Rite Masonic Temple\n2888 Arrowhead Avenue San Bernardino\, California 92405-3805 sbyrb@juno.com \nI.E. Spring YR Festival 2026 Flyer 2
URL:https://yorkriteca.org/event/spring-2026-york-rite-festival-commandery/
LOCATION:San Bernardino York Rite Temple\, 2888 N Arrowhead Ave\, San Bernardino\, CA 92405\, USA
CATEGORIES:Commandery
END:VEVENT
END:VCALENDAR