BEGIN:VCALENDAR
VERSION:2.0
PRODID:-//Grand York Rite of California - ECPv6.15.20//NONSGML v1.0//EN
CALSCALE:GREGORIAN
METHOD:PUBLISH
X-WR-CALNAME:Grand York Rite of California
X-ORIGINAL-URL:https://yorkriteca.org
X-WR-CALDESC:Events for Grand York Rite of California
REFRESH-INTERVAL;VALUE=DURATION:PT1H
X-Robots-Tag:noindex
X-PUBLISHED-TTL:PT1H
BEGIN:VTIMEZONE
TZID:America/Los_Angeles
BEGIN:DAYLIGHT
TZOFFSETFROM:-0800
TZOFFSETTO:-0700
TZNAME:PDT
DTSTART:20250309T100000
END:DAYLIGHT
BEGIN:STANDARD
TZOFFSETFROM:-0700
TZOFFSETTO:-0800
TZNAME:PST
DTSTART:20251102T090000
END:STANDARD
BEGIN:DAYLIGHT
TZOFFSETFROM:-0800
TZOFFSETTO:-0700
TZNAME:PDT
DTSTART:20260308T100000
END:DAYLIGHT
BEGIN:STANDARD
TZOFFSETFROM:-0700
TZOFFSETTO:-0800
TZNAME:PST
DTSTART:20261101T090000
END:STANDARD
BEGIN:DAYLIGHT
TZOFFSETFROM:-0800
TZOFFSETTO:-0700
TZNAME:PDT
DTSTART:20270314T100000
END:DAYLIGHT
BEGIN:STANDARD
TZOFFSETFROM:-0700
TZOFFSETTO:-0800
TZNAME:PST
DTSTART:20271107T090000
END:STANDARD
END:VTIMEZONE
BEGIN:VEVENT
DTSTART;VALUE=DATE:20260225
DTEND;VALUE=DATE:20260226
DTSTAMP:20260421T141100
CREATED:20250913T020057Z
LAST-MODIFIED:20260225T164506Z
UID:10000257-1771977600-1772063999@yorkriteca.org
SUMMARY:Grand Court of Amaranth
DESCRIPTION:Information: https://www.caamaranth.org/Dress Code: Purple Coat
URL:https://yorkriteca.org/event/grand-court-of-amaranth/
LOCATION:Wyndham Visalia\, 9000 W Airport Dr\, Visalia\, CA\, United States
CATEGORIES:Council
GEO:36.324878;-119.390106
X-APPLE-STRUCTURED-LOCATION;VALUE=URI;X-ADDRESS=Wyndham Visalia 9000 W Airport Dr Visalia CA United States;X-APPLE-RADIUS=500;X-TITLE=9000 W Airport Dr:geo:-119.390106,36.324878
END:VEVENT
END:VCALENDAR