BEGIN:VCALENDAR
VERSION:2.0
PRODID:-//Grand York Rite of California - ECPv6.15.20//NONSGML v1.0//EN
CALSCALE:GREGORIAN
METHOD:PUBLISH
X-WR-CALNAME:Grand York Rite of California
X-ORIGINAL-URL:https://yorkriteca.org
X-WR-CALDESC:Events for Grand York Rite of California
REFRESH-INTERVAL;VALUE=DURATION:PT1H
X-Robots-Tag:noindex
X-PUBLISHED-TTL:PT1H
BEGIN:VTIMEZONE
TZID:America/Los_Angeles
BEGIN:DAYLIGHT
TZOFFSETFROM:-0800
TZOFFSETTO:-0700
TZNAME:PDT
DTSTART:20250309T100000
END:DAYLIGHT
BEGIN:STANDARD
TZOFFSETFROM:-0700
TZOFFSETTO:-0800
TZNAME:PST
DTSTART:20251102T090000
END:STANDARD
BEGIN:DAYLIGHT
TZOFFSETFROM:-0800
TZOFFSETTO:-0700
TZNAME:PDT
DTSTART:20260308T100000
END:DAYLIGHT
BEGIN:STANDARD
TZOFFSETFROM:-0700
TZOFFSETTO:-0800
TZNAME:PST
DTSTART:20261101T090000
END:STANDARD
BEGIN:DAYLIGHT
TZOFFSETFROM:-0800
TZOFFSETTO:-0700
TZNAME:PDT
DTSTART:20270314T100000
END:DAYLIGHT
BEGIN:STANDARD
TZOFFSETFROM:-0700
TZOFFSETTO:-0800
TZNAME:PST
DTSTART:20271107T090000
END:STANDARD
END:VTIMEZONE
BEGIN:VEVENT
DTSTART;VALUE=DATE:20260123
DTEND;VALUE=DATE:20260131
DTSTAMP:20260421T155027
CREATED:20250428T010239Z
LAST-MODIFIED:20260129T201516Z
UID:10000168-1769126400-1769817599@yorkriteca.org
SUMMARY:GHP Travel
DESCRIPTION:
URL:https://yorkriteca.org/event/ghp-travel/
CATEGORIES:Chapter
END:VEVENT
BEGIN:VEVENT
DTSTART;TZID=America/Los_Angeles:20260128T183000
DTEND;TZID=America/Los_Angeles:20260128T200000
DTSTAMP:20260421T155027
CREATED:20251119T131530Z
LAST-MODIFIED:20260128T231528Z
UID:10000278-1769625000-1769630400@yorkriteca.org
SUMMARY:San Jose Council No. 20 Installation
DESCRIPTION:MIGM serving as the Installing Officer
URL:https://yorkriteca.org/event/san-jose-council-installation/
LOCATION:2500 Masonic Dr\, San Jose\, CA\, United States
CATEGORIES:Council
GEO:37.295097;-121.89143
END:VEVENT
END:VCALENDAR